BEGIN:VCALENDAR
VERSION:2.0
PRODID:-//eventon.com NONSGML v1.0//EN
CALSCALE:GREGORIAN
METHOD:PUBLISH
BEGIN:VEVENT
UID:69e503c442a01
DTSTAMP:20260419T163308Z
DTSTART:20261113T160000Z
DTEND:20261113T170000Z
LOCATION:
SUMMARY:Nichts für den König
DESCRIPTION:Nichts für den König\nhttps://www.theaterasou.at/events/nicht
 s-fuer-den-koenig/
URL:https://www.theaterasou.at/events/nichts-fuer-den-koenig/
END:VEVENT
END:VCALENDAR