BEGIN:VCALENDAR
VERSION:2.0
PRODID:-//eventon.com NONSGML v1.0//EN
CALSCALE:GREGORIAN
METHOD:PUBLISH
BEGIN:VEVENT
UID:69e5058f58dc5
DTSTAMP:20260419T164047Z
DTSTART:20261115T160000Z
DTEND:20261115T170000Z
LOCATION:
SUMMARY:Nichts für den König
DESCRIPTION:Nichts für den König\nhttps://www.theaterasou.at/events/nicht
 s-fuer-den-koenig/var/ri-2.l-L1
URL:https://www.theaterasou.at/events/nichts-fuer-den-koenig/var/ri-2.l-L1
END:VEVENT
END:VCALENDAR