BEGIN:VCALENDAR
VERSION:2.0
PRODID:-//eventon.com NONSGML v1.0//EN
CALSCALE:GREGORIAN
METHOD:PUBLISH
BEGIN:VEVENT
UID:69e8925d73ae5
DTSTAMP:20260422T091821Z
DTSTART:20260625T160000Z
DTEND:20260625T170000Z
LOCATION:
SUMMARY:Schneewittchen und der 7. Zwerg
DESCRIPTION:Schneewittchen und der 7. Zwerg\nhttps://www.theaterasou.at/eve
 nts/schneewittchen-und-der-7-zwerg-8/
URL:https://www.theaterasou.at/events/schneewittchen-und-der-7-zwerg-8/
END:VEVENT
END:VCALENDAR