BEGIN:VCALENDAR
VERSION:2.0
PRODID:-//eventon.com NONSGML v1.0//EN
CALSCALE:GREGORIAN
METHOD:PUBLISH
BEGIN:VEVENT
UID:69e8c6ffe4fc3
DTSTAMP:20260422T130255Z
DTSTART:20260627T110000Z
DTEND:20260627T120000Z
LOCATION:
SUMMARY:Matinee: Schneewittchen und der 7. Zwerg
DESCRIPTION:Matinee: Schneewittchen und der 7. Zwerg\nhttps://www.theateras
 ou.at/events/schneewittchen-und-der-7-zwerg-9/
URL:https://www.theaterasou.at/events/schneewittchen-und-der-7-zwerg-9/
END:VEVENT
END:VCALENDAR